BEGIN:VCALENDAR
VERSION:2.0
PRODID:-//National Museum of Women in the Arts //NONSGML Events //EN
CALSCALE:GREGORIAN
X-WR-CALNAME:National Museum of Women in the Arts
BEGIN:VEVENT
CREATED:20200827T204027Z
UID:28715
DTEND;VALUE=DATE:20201211T183000
DTSTART;VALUE=DATE:20201211T173000
DTSTAMP:1777125711
LOCATION:Online
DESCRIPTION:SOLD OUT. Join NMWA staff as we discuss the memoir by Nell Painter about starting over.
SUMMARY:SOLD OUT. Join NMWA staff as we discuss the memoir by Nell Painter about starting over.
ORGANIZER:National Museum of Women in the Arts
URL;VALUE=URI:https://nmwa.org/whats-on/calendar/nmwa-book-club-old-in-art-school-2/
TRANSP:OPAQUE
BEGIN:VALARM
ACTION:DISPLAY
TRIGGER;VALUE=DATE-TIME:-PT1H
DESCRIPTION:Reminder for NMWA Book Club: Old in Art School
END:VALARM
END:VEVENT
END:VCALENDAR
