BEGIN:VCALENDAR
VERSION:2.0
PRODID:-//National Museum of Women in the Arts //NONSGML Events //EN
CALSCALE:GREGORIAN
X-WR-CALNAME:National Museum of Women in the Arts
BEGIN:VEVENT
CREATED:20201016T000725Z
UID:32811
DTEND;VALUE=DATE:20201217T183000
DTSTART;VALUE=DATE:20201217T173000
DTSTAMP:1776828471
LOCATION:Online
DESCRIPTION:Join NMWA staff for a virtual happy hour to celebrate Louise Bourgeois ahead of her December 25th birthday.
SUMMARY:Join NMWA staff for a virtual happy hour to celebrate Louise Bourgeois ahead of her December 25th birthday.
ORGANIZER:National Museum of Women in the Arts
URL;VALUE=URI:https://nmwa.org/whats-on/calendar/virtual-happy-hour-louise-bourgeois/
TRANSP:OPAQUE
BEGIN:VALARM
ACTION:DISPLAY
TRIGGER;VALUE=DATE-TIME:-PT1H
DESCRIPTION:Reminder for Virtual Happy Hour: Louise Bourgeois Birthday Celebration
END:VALARM
END:VEVENT
END:VCALENDAR
