BEGIN:VCALENDAR
VERSION:2.0
PRODID:-//National Museum of Women in the Arts //NONSGML Events //EN
CALSCALE:GREGORIAN
X-WR-CALNAME:National Museum of Women in the Arts
BEGIN:VEVENT
CREATED:20210607T180100Z
UID:47483
DTEND;VALUE=DATE:20210922T183000
DTSTART;VALUE=DATE:20210922T173000
DTSTAMP:1776836662
LOCATION:Online
DESCRIPTION:Join NMWA staff for a virtual happy hour to celebrate Mary Vaux Walcott.
SUMMARY:Join NMWA staff for a virtual happy hour to celebrate Mary Vaux Walcott.
ORGANIZER:National Museum of Women in the Arts
URL;VALUE=URI:https://nmwa.org/whats-on/calendar/virtual-happy-hour-mary-vaux-walcott/
TRANSP:OPAQUE
BEGIN:VALARM
ACTION:DISPLAY
TRIGGER;VALUE=DATE-TIME:-PT1H
DESCRIPTION:Reminder for Virtual Happy Hour: Mary Vaux Walcott Celebration
END:VALARM
END:VEVENT
END:VCALENDAR
