BEGIN:VCALENDAR
VERSION:2.0
PRODID:-//National Museum of Women in the Arts //NONSGML Events //EN
CALSCALE:GREGORIAN
X-WR-CALNAME:National Museum of Women in the Arts
BEGIN:VEVENT
CREATED:20210715T184744Z
UID:48650
DTEND;VALUE=DATE:20211209T183000
DTSTART;VALUE=DATE:20211209T173000
DTSTAMP:1776807911
LOCATION:Online
DESCRIPTION:Join NMWA staff and fellow readers for a deep dive into "Cat's Eye" by Margaret Atwood.
SUMMARY:Join NMWA staff and fellow readers for a deep dive into "Cat's Eye" by Margaret Atwood.
ORGANIZER:National Museum of Women in the Arts
URL;VALUE=URI:https://nmwa.org/whats-on/calendar/nmwa-book-club-dec-09/
TRANSP:OPAQUE
BEGIN:VALARM
ACTION:DISPLAY
TRIGGER;VALUE=DATE-TIME:-PT1H
DESCRIPTION:Reminder for NMWA Book Club: Cat’s Eye
END:VALARM
END:VEVENT
END:VCALENDAR
