BEGIN:VCALENDAR
VERSION:2.0
PRODID:-//National Museum of Women in the Arts //NONSGML Events //EN
CALSCALE:GREGORIAN
X-WR-CALNAME:National Museum of Women in the Arts
BEGIN:VEVENT
CREATED:20210715T184816Z
UID:48661
DTEND;VALUE=DATE:20211210T130000
DTSTART;VALUE=DATE:20211210T120000
DTSTAMP:1776813761
LOCATION:Online
DESCRIPTION:Join NMWA staff and fellow readers for a deep dive into "Cat's Eye" by Margaret Atwood.
SUMMARY:Join NMWA staff and fellow readers for a deep dive into "Cat's Eye" by Margaret Atwood.
ORGANIZER:National Museum of Women in the Arts
URL;VALUE=URI:https://nmwa.org/whats-on/calendar/nmwa-book-club-dec-10/
TRANSP:OPAQUE
BEGIN:VALARM
ACTION:DISPLAY
TRIGGER;VALUE=DATE-TIME:-PT1H
DESCRIPTION:Reminder for NMWA Book Club: Cat’s Eye
END:VALARM
END:VEVENT
END:VCALENDAR
