BEGIN:VCALENDAR
VERSION:2.0
PRODID:-//National Museum of Women in the Arts //NONSGML Events //EN
CALSCALE:GREGORIAN
X-WR-CALNAME:National Museum of Women in the Arts
BEGIN:VEVENT
CREATED:20210715T033648Z
UID:48681
DTEND;VALUE=DATE:20211013T183000
DTSTART;VALUE=DATE:20211013T173000
DTSTAMP:1776812101
LOCATION:Online
DESCRIPTION:Join NMWA staff for a virtual happy hour to celebrate Alma Woodsey Thomas and her amazing art circles.
SUMMARY:Join NMWA staff for a virtual happy hour to celebrate Alma Woodsey Thomas and her amazing art circles.
ORGANIZER:National Museum of Women in the Arts
URL;VALUE=URI:https://nmwa.org/whats-on/calendar/virtual-happy-hour-oct-13/
TRANSP:OPAQUE
BEGIN:VALARM
ACTION:DISPLAY
TRIGGER;VALUE=DATE-TIME:-PT1H
DESCRIPTION:Reminder for Virtual Happy Hour: Alma Woodsey Thomas and Her Circles
END:VALARM
END:VEVENT
END:VCALENDAR
