BEGIN:VCALENDAR
VERSION:2.0
PRODID:-//National Museum of Women in the Arts //NONSGML Events //EN
CALSCALE:GREGORIAN
X-WR-CALNAME:National Museum of Women in the Arts
BEGIN:VEVENT
CREATED:20210716T115041Z
UID:48832
DTEND;VALUE=DATE:20211216T183000
DTSTART;VALUE=DATE:20211216T173000
DTSTAMP:1777051844
LOCATION:Online
DESCRIPTION:Join us for a monthly happy hour to discuss beer making, the restaurant industry, art, politics, culture, and more.
SUMMARY:Join us for a monthly happy hour to discuss beer making, the restaurant industry, art, politics, culture, and more.
ORGANIZER:National Museum of Women in the Arts
URL;VALUE=URI:https://nmwa.org/whats-on/calendar/brews-views-dec-16/
TRANSP:OPAQUE
BEGIN:VALARM
ACTION:DISPLAY
TRIGGER;VALUE=DATE-TIME:-PT1H
DESCRIPTION:Reminder for Brews and Views
END:VALARM
END:VEVENT
END:VCALENDAR
