BEGIN:VCALENDAR
VERSION:2.0
PRODID:-//National Museum of Women in the Arts //NONSGML Events //EN
CALSCALE:GREGORIAN
X-WR-CALNAME:National Museum of Women in the Arts
BEGIN:VEVENT
CREATED:20210716T233647Z
UID:48933
DTEND;VALUE=DATE:20210913T130000
DTSTART;VALUE=DATE:20210913T120000
DTSTAMP:1776836313
LOCATION:Online
DESCRIPTION:This event has been cancelled.
SUMMARY:This event has been cancelled.
ORGANIZER:National Museum of Women in the Arts
URL;VALUE=URI:https://nmwa.org/whats-on/calendar/curative-collective-conversation-sep-13/
TRANSP:OPAQUE
BEGIN:VALARM
ACTION:DISPLAY
TRIGGER;VALUE=DATE-TIME:-PT1H
DESCRIPTION:Reminder for Curative Collective Conversation: Lauren Von Der Pool
END:VALARM
END:VEVENT
END:VCALENDAR
