BEGIN:VCALENDAR
VERSION:2.0
PRODID:-//National Museum of Women in the Arts //NONSGML Events //EN
CALSCALE:GREGORIAN
X-WR-CALNAME:National Museum of Women in the Arts
BEGIN:VEVENT
CREATED:20210811T175834Z
UID:50029
DTEND;VALUE=DATE:20211008T130000
DTSTART;VALUE=DATE:20211008T120000
DTSTAMP:1776836436
LOCATION:Online
DESCRIPTION:Join us online for a live performance from Prowess the Testament, followed by a look into her creative process.
SUMMARY:Join us online for a live performance from Prowess the Testament, followed by a look into her creative process.
ORGANIZER:National Museum of Women in the Arts
URL;VALUE=URI:https://nmwa.org/whats-on/calendar/the-tea-oct-08/
TRANSP:OPAQUE
BEGIN:VALARM
ACTION:DISPLAY
TRIGGER;VALUE=DATE-TIME:-PT1H
DESCRIPTION:Reminder for The Tea: Prowess the Testament
END:VALARM
END:VEVENT
END:VCALENDAR
