BEGIN:VCALENDAR
VERSION:2.0
PRODID:-//National Museum of Women in the Arts //NONSGML Events //EN
CALSCALE:GREGORIAN
X-WR-CALNAME:National Museum of Women in the Arts
BEGIN:VEVENT
CREATED:20211207T002749Z
UID:53177
DTEND;VALUE=DATE:20220515T180000
DTSTART;VALUE=DATE:20220515T163000
DTSTAMP:1777047077
LOCATION:Online
DESCRIPTION:Join us for a conversation about what we sell, what we gain, and what we lose in this digital age.
SUMMARY:Join us for a conversation about what we sell, what we gain, and what we lose in this digital age.
ORGANIZER:National Museum of Women in the Arts
URL;VALUE=URI:https://nmwa.org/whats-on/calendar/fresh-talk-privacy-for-sale/
TRANSP:OPAQUE
BEGIN:VALARM
ACTION:DISPLAY
TRIGGER;VALUE=DATE-TIME:-PT1H
DESCRIPTION:Reminder for Fresh Talk: Privacy for Sale
END:VALARM
END:VEVENT
END:VCALENDAR
