BEGIN:VCALENDAR
VERSION:2.0
PRODID:-//National Museum of Women in the Arts //NONSGML Events //EN
CALSCALE:GREGORIAN
X-WR-CALNAME:National Museum of Women in the Arts
BEGIN:VEVENT
CREATED:20221110T225241Z
UID:62980
DTEND;VALUE=DATE:20230406T183000
DTSTART;VALUE=DATE:20230406T173000
DTSTAMP:1776802144
LOCATION:Online
DESCRIPTION:Join NMWA and the Gadsden Arts Center & Museum to chat about the life and work of Elizabeth Catlett.
SUMMARY:Join NMWA and the Gadsden Arts Center & Museum to chat about the life and work of Elizabeth Catlett. 
ORGANIZER:National Museum of Women in the Arts
URL;VALUE=URI:https://nmwa.org/whats-on/calendar/art-talk-live-elizabeth-catlett/
TRANSP:OPAQUE
BEGIN:VALARM
ACTION:DISPLAY
TRIGGER;VALUE=DATE-TIME:-PT1H
DESCRIPTION:Reminder for Art Talk Live: Elizabeth Catlett
END:VALARM
END:VEVENT
END:VCALENDAR
