BEGIN:VCALENDAR
VERSION:2.0
PRODID:-//National Museum of Women in the Arts //NONSGML Events //EN
CALSCALE:GREGORIAN
X-WR-CALNAME:National Museum of Women in the Arts
BEGIN:VEVENT
CREATED:20230126T202933Z
UID:65293
DTEND;VALUE=DATE:20230602T174500
DTSTART;VALUE=DATE:20230602T170000
DTSTAMP:1776746581
LOCATION:Online
DESCRIPTION:Join online Art Chats with NMWA educators.
SUMMARY:Join online Art Chats with NMWA educators.
ORGANIZER:National Museum of Women in the Arts
URL;VALUE=URI:https://nmwa.org/whats-on/calendar/art-chat-five-jun-2/
TRANSP:OPAQUE
BEGIN:VALARM
ACTION:DISPLAY
TRIGGER;VALUE=DATE-TIME:-PT1H
DESCRIPTION:Reminder for Art Chat @ Five: A Picture is Worth a Thousand Words
END:VALARM
END:VEVENT
END:VCALENDAR
