BEGIN:VCALENDAR
VERSION:2.0
PRODID:-//National Museum of Women in the Arts //NONSGML Events //EN
CALSCALE:GREGORIAN
X-WR-CALNAME:National Museum of Women in the Arts
BEGIN:VEVENT
CREATED:20230126T233803Z
UID:65303
DTEND;VALUE=DATE:20230630T174500
DTSTART;VALUE=DATE:20230630T170000
DTSTAMP:1776746539
LOCATION:Online
DESCRIPTION:This Event Is Sold Out.
SUMMARY:This Event Is Sold Out.
ORGANIZER:National Museum of Women in the Arts
URL;VALUE=URI:https://nmwa.org/whats-on/calendar/art-chat-five-jun-30/
TRANSP:OPAQUE
BEGIN:VALARM
ACTION:DISPLAY
TRIGGER;VALUE=DATE-TIME:-PT1H
DESCRIPTION:Reminder for Art Chat @ Five: Art Speaks
END:VALARM
END:VEVENT
END:VCALENDAR
