BEGIN:VCALENDAR
VERSION:2.0
PRODID:-//National Museum of Women in the Arts //NONSGML Events //EN
CALSCALE:GREGORIAN
X-WR-CALNAME:National Museum of Women in the Arts
BEGIN:VEVENT
CREATED:20230206T190727Z
UID:65930
DTEND;VALUE=DATE:20230505T130000
DTSTART;VALUE=DATE:20230505T120000
DTSTAMP:1776802346
LOCATION:Online
DESCRIPTION:Join us online for a performance by singer-songwriter Heather Mae, followed by a look into her creative process.
SUMMARY:Join us online for a performance by singer-songwriter Heather Mae, followed by a look into her creative process.
ORGANIZER:National Museum of Women in the Arts
URL;VALUE=URI:https://nmwa.org/whats-on/calendar/the-tea-heather-mae/
TRANSP:OPAQUE
BEGIN:VALARM
ACTION:DISPLAY
TRIGGER;VALUE=DATE-TIME:-PT1H
DESCRIPTION:Reminder for The Tea: Heather Mae
END:VALARM
END:VEVENT
END:VCALENDAR
