BEGIN:VCALENDAR
VERSION:2.0
PRODID:-//National Museum of Women in the Arts //NONSGML Events //EN
CALSCALE:GREGORIAN
X-WR-CALNAME:National Museum of Women in the Arts
BEGIN:VEVENT
CREATED:20230206T191751Z
UID:65934
DTEND;VALUE=DATE:20230602T130000
DTSTART;VALUE=DATE:20230602T120000
DTSTAMP:1776746472
LOCATION:Online
DESCRIPTION:Join us online for a performance from musician Crys Matthews, followed by a look into her creative process.
SUMMARY:Join us online for a performance from musician Crys Matthews, followed by a look into her creative process.
ORGANIZER:National Museum of Women in the Arts
URL;VALUE=URI:https://nmwa.org/whats-on/calendar/the-tea-crys-matthews/
TRANSP:OPAQUE
BEGIN:VALARM
ACTION:DISPLAY
TRIGGER;VALUE=DATE-TIME:-PT1H
DESCRIPTION:Reminder for The Tea: Crys Matthews
END:VALARM
END:VEVENT
END:VCALENDAR
