BEGIN:VCALENDAR
VERSION:2.0
PRODID:-//National Museum of Women in the Arts //NONSGML Events //EN
CALSCALE:GREGORIAN
X-WR-CALNAME:National Museum of Women in the Arts
BEGIN:VEVENT
CREATED:20230206T211858Z
UID:65940
DTEND;VALUE=DATE:20230615T200000
DTSTART;VALUE=DATE:20230615T180000
DTSTAMP:1776746436
LOCATION:Online
DESCRIPTION:Join author Addie Tsai, NMWA staff, and fellow readers for a deep dive into Tsai’s retelling of Mary Shelley’s classic tale.
SUMMARY:Join author Addie Tsai, NMWA staff, and fellow readers for a deep dive into Tsai’s retelling of Mary Shelley’s classic tale.
ORGANIZER:National Museum of Women in the Arts
URL;VALUE=URI:https://nmwa.org/whats-on/calendar/nmwa-book-club-jun-15-23/
TRANSP:OPAQUE
BEGIN:VALARM
ACTION:DISPLAY
TRIGGER;VALUE=DATE-TIME:-PT1H
DESCRIPTION:Reminder for NMWA Book Club: Unwieldy Creatures
END:VALARM
END:VEVENT
END:VCALENDAR
