BEGIN:VCALENDAR
VERSION:2.0
PRODID:-//National Museum of Women in the Arts //NONSGML Events //EN
CALSCALE:GREGORIAN
X-WR-CALNAME:National Museum of Women in the Arts
BEGIN:VEVENT
CREATED:20230208T151057Z
UID:66040
DTEND;VALUE=DATE:20230706T113000
DTSTART;VALUE=DATE:20230706T100000
DTSTAMP:1776746482
LOCATION:Online
DESCRIPTION:NMWA’s annual virtual Educator Summer Camp series returns! Join us July 6 through July 27.
SUMMARY:NMWA’s annual virtual Educator Summer Camp series returns! Join us July 6 through July 27.
ORGANIZER:National Museum of Women in the Arts
URL;VALUE=URI:https://nmwa.org/whats-on/calendar/2023-virtual-educator-summer-camp-jul-6/
TRANSP:OPAQUE
BEGIN:VALARM
ACTION:DISPLAY
TRIGGER;VALUE=DATE-TIME:-PT1H
DESCRIPTION:Reminder for Virtual Educator Summer Camp 2023: New and On View
END:VALARM
END:VEVENT
END:VCALENDAR
