BEGIN:VCALENDAR
VERSION:2.0
PRODID:-//National Museum of Women in the Arts //NONSGML Events //EN
CALSCALE:GREGORIAN
X-WR-CALNAME:National Museum of Women in the Arts
BEGIN:VEVENT
CREATED:20230208T152820Z
UID:66061
DTEND;VALUE=DATE:20230720T113000
DTSTART;VALUE=DATE:20230720T100000
DTSTAMP:1776802025
LOCATION:Online
DESCRIPTION:This Event Is Sold Out.
SUMMARY:This Event Is Sold Out.
ORGANIZER:National Museum of Women in the Arts
URL;VALUE=URI:https://nmwa.org/whats-on/calendar/2023-virtual-educator-summer-camp-jul-20/
TRANSP:OPAQUE
BEGIN:VALARM
ACTION:DISPLAY
TRIGGER;VALUE=DATE-TIME:-PT1H
DESCRIPTION:Reminder for Virtual Educator Summer Camp 2023: Monoprints and Double Accordion Books with María Verónica San Martín
END:VALARM
END:VEVENT
END:VCALENDAR
