BEGIN:VCALENDAR
VERSION:2.0
PRODID:-//National Museum of Women in the Arts //NONSGML Events //EN
CALSCALE:GREGORIAN
X-WR-CALNAME:National Museum of Women in the Arts
BEGIN:VEVENT
CREATED:20230817T120834Z
UID:71416
DTEND;VALUE=DATE:20231203T144500
DTSTART;VALUE=DATE:20231203T140000
DTSTAMP:1776478576
LOCATION:Meet at the Information Desk
DESCRIPTION:Join us for 45-minute collection tours, offered on the first Sundays of each month.
SUMMARY:Join us for 45-minute collection tours, offered on the first Sundays of each month.
ORGANIZER:National Museum of Women in the Arts
URL;VALUE=URI:https://nmwa.org/whats-on/calendar/collection-highlights-tour-2023-12-03/
TRANSP:OPAQUE
BEGIN:VALARM
ACTION:DISPLAY
TRIGGER;VALUE=DATE-TIME:-PT1H
DESCRIPTION:Reminder for Collection Highlights Tour
END:VALARM
END:VEVENT
END:VCALENDAR
