BEGIN:VCALENDAR
VERSION:2.0
PRODID:-//National Museum of Women in the Arts //NONSGML Events //EN
CALSCALE:GREGORIAN
X-WR-CALNAME:National Museum of Women in the Arts
BEGIN:VEVENT
CREATED:20230817T195235Z
UID:71450
DTEND;VALUE=DATE:20231201T174500
DTSTART;VALUE=DATE:20231201T170000
DTSTAMP:1776671254
LOCATION:Online
DESCRIPTION:Participate in online Art Chats with NMWA educators
SUMMARY:Participate in online Art Chats with NMWA educators
ORGANIZER:National Museum of Women in the Arts
URL;VALUE=URI:https://nmwa.org/whats-on/calendar/art-chat-five-2023-12-01/
TRANSP:OPAQUE
BEGIN:VALARM
ACTION:DISPLAY
TRIGGER;VALUE=DATE-TIME:-PT1H
DESCRIPTION:Reminder for Art Chat @ Five: (Almost) All Black Everything
END:VALARM
END:VEVENT
END:VCALENDAR
