BEGIN:VCALENDAR
VERSION:2.0
PRODID:-//National Museum of Women in the Arts //NONSGML Events //EN
CALSCALE:GREGORIAN
X-WR-CALNAME:National Museum of Women in the Arts
BEGIN:VEVENT
CREATED:20230818T203408Z
UID:71547
DTEND;VALUE=DATE:20231129T123000
DTSTART;VALUE=DATE:20231129T120000
DTSTAMP:1776671692
LOCATION:Meet at the Information Desk
DESCRIPTION:Get up close with select artworks during this weekly lunchtime talk.
SUMMARY:Get up close with select artworks during this weekly lunchtime talk. 
ORGANIZER:National Museum of Women in the Arts
URL;VALUE=URI:https://nmwa.org/whats-on/calendar/gallery-talk-2023-11-29/
TRANSP:OPAQUE
BEGIN:VALARM
ACTION:DISPLAY
TRIGGER;VALUE=DATE-TIME:-PT1H
DESCRIPTION:Reminder for Gallery Talk: Collection Sampler
END:VALARM
END:VEVENT
END:VCALENDAR
