BEGIN:VCALENDAR
VERSION:2.0
PRODID:-//National Museum of Women in the Arts //NONSGML Events //EN
CALSCALE:GREGORIAN
X-WR-CALNAME:National Museum of Women in the Arts
BEGIN:VEVENT
CREATED:20231026T193837Z
UID:75390
DTEND;VALUE=DATE:20231204T190000
DTSTART;VALUE=DATE:20231204T180000
DTSTAMP:1776670948
LOCATION:Online
DESCRIPTION:Join NMWA staff for a members-only virtual reopening celebration
SUMMARY:Join NMWA staff for a members-only virtual reopening celebration
ORGANIZER:National Museum of Women in the Arts
URL;VALUE=URI:https://nmwa.org/whats-on/calendar/virtual-reopening-celebration-2023-12-04/
TRANSP:OPAQUE
BEGIN:VALARM
ACTION:DISPLAY
TRIGGER;VALUE=DATE-TIME:-PT1H
DESCRIPTION:Reminder for Virtual Reopening Celebration
END:VALARM
END:VEVENT
END:VCALENDAR
