BEGIN:VCALENDAR
VERSION:2.0
PRODID:-//National Museum of Women in the Arts //NONSGML Events //EN
CALSCALE:GREGORIAN
X-WR-CALNAME:National Museum of Women in the Arts
BEGIN:VEVENT
CREATED:20240829T203343Z
UID:84121
DTEND;VALUE=DATE:20250212T200000
DTSTART;VALUE=DATE:20250212T180000
DTSTAMP:1776547637
LOCATION:Performance Hall\, 5th floor
DESCRIPTION:“Lemme Say This” hosts discuss how media and popular culture influence public perceptions of women.
SUMMARY:“Lemme Say This” hosts discuss how media and popular culture influence public perceptions of women.
ORGANIZER:National Museum of Women in the Arts
URL;VALUE=URI:https://nmwa.org/whats-on/calendar/fresh-talk-hunter-harris-and-peyton-dix/
TRANSP:OPAQUE
BEGIN:VALARM
ACTION:DISPLAY
TRIGGER;VALUE=DATE-TIME:-PT1H
DESCRIPTION:Reminder for Fresh Talk: Hunter Harris and Peyton Dix
END:VALARM
END:VEVENT
END:VCALENDAR
