BEGIN:VCALENDAR
VERSION:2.0
PRODID:-//National Museum of Women in the Arts //NONSGML Events //EN
CALSCALE:GREGORIAN
X-WR-CALNAME:National Museum of Women in the Arts
BEGIN:VEVENT
CREATED:20241202T105538Z
UID:85509
DTEND;VALUE=DATE:20250419T130000
DTSTART;VALUE=DATE:20250419T120000
DTSTAMP:1776926326
LOCATION:Meet at the Information Desk
DESCRIPTION:From subject matter to materials, explore how artists draw inspiration from the natural world.
SUMMARY:From subject matter to materials, explore how artists draw inspiration from the natural world.
ORGANIZER:National Museum of Women in the Arts
URL;VALUE=URI:https://nmwa.org/whats-on/calendar/tour-celebrating-earth-day-2025/
TRANSP:OPAQUE
BEGIN:VALARM
ACTION:DISPLAY
TRIGGER;VALUE=DATE-TIME:-PT1H
DESCRIPTION:Reminder for Tour: Celebrating Earth Day
END:VALARM
END:VEVENT
END:VCALENDAR
