BEGIN:VCALENDAR
VERSION:2.0
PRODID:-//National Museum of Women in the Arts //NONSGML Events //EN
CALSCALE:GREGORIAN
X-WR-CALNAME:National Museum of Women in the Arts
BEGIN:VEVENT
CREATED:20250625T141626Z
UID:90632
DTEND;VALUE=DATE:20250720T180000
DTSTART;VALUE=DATE:20250720T160000
DTSTAMP:1776788439
LOCATION:Great Hall and Mezzanine
DESCRIPTION:Exploring cake, art, and community through DC’s biggest cake exchange.
SUMMARY:Exploring cake, art, and community through DC’s biggest cake exchange.
ORGANIZER:National Museum of Women in the Arts
URL;VALUE=URI:https://nmwa.org/whats-on/calendar/the-bigger-cake-exchange-cake-is-art/
TRANSP:OPAQUE
BEGIN:VALARM
ACTION:DISPLAY
TRIGGER;VALUE=DATE-TIME:-PT1H
DESCRIPTION:Reminder for The Bigger Cake Exchange: Cake is Art
END:VALARM
END:VEVENT
END:VCALENDAR
