BEGIN:VCALENDAR
VERSION:2.0
PRODID:-//National Museum of Women in the Arts //NONSGML Events //EN
CALSCALE:GREGORIAN
X-WR-CALNAME:National Museum of Women in the Arts
BEGIN:VEVENT
CREATED:20250723T200729Z
UID:91187
DTEND;VALUE=DATE:20250803T160000
DTSTART;VALUE=DATE:20250803T150000
DTSTAMP:1776642446
LOCATION:4th floor galleries
DESCRIPTION:Enjoy a conversation with curator Maymanah Farhat and Women’s Studio Workshop director Natalie Renganeschi.
SUMMARY:Enjoy a conversation with curator Maymanah Farhat and Women’s Studio Workshop director Natalie Renganeschi.
ORGANIZER:National Museum of Women in the Arts
URL;VALUE=URI:https://nmwa.org/whats-on/calendar/curators-talk-a-radical-alteration/
TRANSP:OPAQUE
BEGIN:VALARM
ACTION:DISPLAY
TRIGGER;VALUE=DATE-TIME:-PT1H
DESCRIPTION:Reminder for Curator’s Talk: A Radical Alteration
END:VALARM
END:VEVENT
END:VCALENDAR
